View In:
  ArcGIS JavaScript
  ArcGIS Online Map Viewer
  ArcGIS Earth
  ArcMap
  ArcGIS Pro
View Footprint In:
  ArcGIS Online Map Viewer
Service Description:  
Map Name:  Deliverables
Legend
All Layers and Tables
Dynamic Legend
Dynamic All Layers
Layers: 
Description:  
Service Item Id:  a03745ecbdec4813958e867abc4b489e
Copyright Text:   
Spatial Reference: 
102100
 (3857)
Single Fused Map Cache:  true
Tile Info: 
- Height: 256
- Width: 256
- DPI: 96
- 
Levels of Detail:  24
- 
Level ID: 1
[ Start Tile, End Tile ]
- Resolution: 78271.5169639999
- Scale: 2.95828763795777E8
- 
Level ID: 2
[ Start Tile, End Tile ]
- Resolution: 39135.7584820001
- Scale: 1.47914381897889E8
- 
Level ID: 3
[ Start Tile, End Tile ]
- Resolution: 19567.8792409999
- Scale: 7.3957190948944E7
- 
Level ID: 4
[ Start Tile, End Tile ]
- Resolution: 9783.93962049996
- Scale: 3.6978595474472E7
- 
Level ID: 5
[ Start Tile, End Tile ]
- Resolution: 4891.96981024998
- Scale: 1.8489297737236E7
- Format: Mixed
- Compression Quality: 75.0
- Origin: X:  -2.0037508342787E7
 Y:  2.0037508342787E7
 
- Spatial Reference: 102100
 (3857)
 
Storage Info:
- Storage Format: esriMapCacheStorageModeCompactV2
- Packet Size: 128
Initial Extent:
XMin: -1.1001216167207766E7
YMin: 3548225.985480835
XMax: -1.0993819191408025E7
YMax: 3553599.5502479286
Spatial Reference: 102100
Full Extent:
XMin: -1.0999178734860772E7
YMin: 3549070.9134115367
XMax: -1.0995839431751063E7
YMax: 3552885.4484406766
Spatial Reference: 102100
Units: esriMeters
Supported Image Format Types:  PNG32,PNG24,PNG,JPG,DIB,TIFF,EMF,PS,PDF,GIF,SVG,SVGZ,BMP
Document Info: 
Title: Deliverables
Author: 
Comments: 
Subject: 
Category: 
Keywords: Marshall Springs
AntialiasingMode: None
TextAntialiasingMode: Force
Supports Dynamic Layers: true
MaxRecordCount:  2000
MaxImageHeight:  4096
MaxImageWidth:  4096
Supported Query Formats:  JSON, geoJSON, PBF
Supports Query Data Elements:  true
Min Scale:  5.91657527591555E8
Max Scale:  70.5310735
Min LOD:  0
Max LOD:  23
Supports Datum Transformation:  true
Child Resources:
  
Info
  Dynamic Layer
 
Supported Operations:
  
Export Map
  Identify
  QueryLegends
  QueryDomains
  Find
  Return Updates